Package: CNORode Version: 1.52.0 Command: /home/biocbuild/R/R/bin/R CMD build --keep-empty-dirs --no-resave-data CNORode StartedAt: 2025-11-11 00:35:42 -0000 (Tue, 11 Nov 2025) EndedAt: 2025-11-11 00:36:30 -0000 (Tue, 11 Nov 2025) EllapsedTime: 48.0 seconds RetCode: 0 Status: OK PackageFile: CNORode_1.52.0.tar.gz PackageFileSize: 406.9 KiB