Package: CNORode Version: 1.52.0 Command: /home/biocbuild/bbs-3.22-bioc/R/bin/R CMD check --install=check:CNORode.install-out.txt --library=/home/biocbuild/bbs-3.22-bioc/R/site-library --timings CNORode_1.52.0.tar.gz StartedAt: 2025-11-11 22:21:46 -0500 (Tue, 11 Nov 2025) EndedAt: 2025-11-11 22:23:04 -0500 (Tue, 11 Nov 2025) EllapsedTime: 78.1 seconds RetCode: 0 Status: WARNINGS CheckDir: CNORode.Rcheck Warnings: 2