Package: CNORode Version: 1.52.0 Command: /home/biocbuild/bbs-3.22-bioc/R/bin/R CMD build --keep-empty-dirs --no-resave-data --md5 CNORode StartedAt: 2025-11-11 16:59:15 -0500 (Tue, 11 Nov 2025) EndedAt: 2025-11-11 16:59:47 -0500 (Tue, 11 Nov 2025) EllapsedTime: 32.0 seconds RetCode: 0 Status: OK PackageFile: CNORode_1.52.0.tar.gz PackageFileSize: 491.2 KiB