Package: CNORode Version: 1.50.0 Command: /home/biocbuild/bbs-3.21-bioc/R/bin/R CMD INSTALL CNORode StartedAt: 2025-10-01 15:40:08 -0400 (Wed, 01 Oct 2025) EndedAt: 2025-10-01 15:40:25 -0400 (Wed, 01 Oct 2025) EllapsedTime: 16.7 seconds RetCode: 0 Status: OK