Package: CNORode Version: 1.50.0 Command: /Library/Frameworks/R.framework/Resources/bin/R CMD build --keep-empty-dirs --no-resave-data CNORode StartedAt: 2025-10-13 18:01:08 -0400 (Mon, 13 Oct 2025) EndedAt: 2025-10-13 18:02:21 -0400 (Mon, 13 Oct 2025) EllapsedTime: 73.6 seconds RetCode: 0 Status: OK PackageFile: CNORode_1.50.0.tar.gz PackageFileSize: 519.2 KiB