Package: CNORode Version: 1.50.0 Command: /Library/Frameworks/R.framework/Resources/bin/R CMD build --keep-empty-dirs --no-resave-data CNORode StartedAt: 2025-04-21 16:20:34 -0400 (Mon, 21 Apr 2025) EndedAt: 2025-04-21 16:21:13 -0400 (Mon, 21 Apr 2025) EllapsedTime: 38.7 seconds RetCode: 0 Status: OK PackageFile: CNORode_1.50.0.tar.gz PackageFileSize: 515.3 KiB