Package: CNORode Version: 1.50.0 Command: /Library/Frameworks/R.framework/Resources/bin/R CMD INSTALL CNORode StartedAt: 2025-09-29 16:04:25 -0400 (Mon, 29 Sep 2025) EndedAt: 2025-09-29 16:04:44 -0400 (Mon, 29 Sep 2025) EllapsedTime: 19.4 seconds RetCode: 0 Status: OK