Package: CNORode Version: 1.50.0 Command: /Library/Frameworks/R.framework/Resources/bin/R CMD build --keep-empty-dirs --no-resave-data CNORode StartedAt: 2025-09-29 21:45:49 -0400 (Mon, 29 Sep 2025) EndedAt: 2025-09-29 21:46:32 -0400 (Mon, 29 Sep 2025) EllapsedTime: 42.7 seconds RetCode: 0 Status: OK PackageFile: CNORode_1.50.0.tar.gz PackageFileSize: 519 KiB