Package: CNORode Version: 1.50.0 Command: rm -rf CNORode.buildbin-libdir && mkdir CNORode.buildbin-libdir && /Users/biocbuild/BBS/utils/build-universal.sh CNORode_1.50.0.tar.gz /Library/Frameworks/R.framework/Resources/bin/R CNORode.buildbin-libdir StartedAt: 2025-10-01 17:53:59 -0400 (Wed, 01 Oct 2025) EndedAt: 2025-10-01 17:54:23 -0400 (Wed, 01 Oct 2025) EllapsedTime: 23.6 seconds RetCode: 0 Status: OK PackageFile: CNORode_1.50.0.tgz PackageFileSize: 436.7 KiB