Package: CNORfuzzy Version: 1.52.0 Command: /home/biocbuild/R/R/bin/R CMD INSTALL CNORfuzzy StartedAt: 2025-11-10 21:21:04 -0000 (Mon, 10 Nov 2025) EndedAt: 2025-11-10 21:21:22 -0000 (Mon, 10 Nov 2025) EllapsedTime: 18.1 seconds RetCode: 0 Status: OK