Package: CNORfuzzy Version: 1.52.0 Command: /home/biocbuild/R/R/bin/R CMD build --keep-empty-dirs --no-resave-data CNORfuzzy StartedAt: 2025-11-11 00:35:32 -0000 (Tue, 11 Nov 2025) EndedAt: 2025-11-11 00:36:01 -0000 (Tue, 11 Nov 2025) EllapsedTime: 29.0 seconds RetCode: 0 Status: OK PackageFile: CNORfuzzy_1.52.0.tar.gz PackageFileSize: 911.5 KiB