Package: CNORfeeder Version: 1.50.0 Command: /home/biocbuild/bbs-3.22-bioc/R/bin/R CMD INSTALL CNORfeeder StartedAt: 2025-11-11 15:19:21 -0500 (Tue, 11 Nov 2025) EndedAt: 2025-11-11 15:19:29 -0500 (Tue, 11 Nov 2025) EllapsedTime: 8.4 seconds RetCode: 0 Status: OK