Package: CNORfeeder Version: 1.50.0 Command: /home/biocbuild/bbs-3.22-bioc/R/bin/R CMD check --install=check:CNORfeeder.install-out.txt --library=/home/biocbuild/bbs-3.22-bioc/R/site-library --timings CNORfeeder_1.50.0.tar.gz StartedAt: 2025-11-14 22:22:09 -0500 (Fri, 14 Nov 2025) EndedAt: 2025-11-14 22:23:14 -0500 (Fri, 14 Nov 2025) EllapsedTime: 64.1 seconds RetCode: 0 Status: WARNINGS CheckDir: CNORfeeder.Rcheck Warnings: 4