Package: CNORfeeder Version: 1.50.0 Command: /Library/Frameworks/R.framework/Resources/bin/R CMD INSTALL CNORfeeder StartedAt: 2025-11-03 15:24:10 -0500 (Mon, 03 Nov 2025) EndedAt: 2025-11-03 15:24:24 -0500 (Mon, 03 Nov 2025) EllapsedTime: 13.4 seconds RetCode: 0 Status: OK