Package: CNORfeeder Version: 1.50.0 Command: rm -rf CNORfeeder.buildbin-libdir && mkdir CNORfeeder.buildbin-libdir && /Users/biocbuild/BBS/utils/build-universal.sh CNORfeeder_1.50.0.tar.gz /Library/Frameworks/R.framework/Resources/bin/R CNORfeeder.buildbin-libdir StartedAt: 2025-11-04 01:33:27 -0500 (Tue, 04 Nov 2025) EndedAt: 2025-11-04 01:33:43 -0500 (Tue, 04 Nov 2025) EllapsedTime: 16.1 seconds RetCode: 0 Status: OK PackageFile: CNORfeeder_1.50.0.tgz PackageFileSize: 2.194 MiB