Package: CNORfeeder Version: 1.48.0 Command: /home/biocbuild/R/R/bin/R CMD INSTALL CNORfeeder StartedAt: 2025-10-13 20:27:07 -0000 (Mon, 13 Oct 2025) EndedAt: 2025-10-13 20:27:20 -0000 (Mon, 13 Oct 2025) EllapsedTime: 13.4 seconds RetCode: 0 Status: OK