Package: CNORfeeder Version: 1.48.0 Command: /home/biocbuild/R/R/bin/R CMD build --keep-empty-dirs --no-resave-data CNORfeeder StartedAt: 2025-10-13 23:43:22 -0000 (Mon, 13 Oct 2025) EndedAt: 2025-10-13 23:43:40 -0000 (Mon, 13 Oct 2025) EllapsedTime: 18.0 seconds RetCode: 0 Status: OK PackageFile: CNORfeeder_1.48.0.tar.gz PackageFileSize: 3.428 MiB