Package: CNORdt Version: 1.50.0 Command: /home/biocbuild/R/R/bin/R CMD INSTALL CNORdt StartedAt: 2025-10-13 20:27:07 -0000 (Mon, 13 Oct 2025) EndedAt: 2025-10-13 20:27:21 -0000 (Mon, 13 Oct 2025) EllapsedTime: 14.2 seconds RetCode: 0 Status: OK