Package: CNORdt Version: 1.50.0 Command: /home/biocbuild/R/R/bin/R CMD build --keep-empty-dirs --no-resave-data CNORdt StartedAt: 2025-10-13 23:43:07 -0000 (Mon, 13 Oct 2025) EndedAt: 2025-10-13 23:43:54 -0000 (Mon, 13 Oct 2025) EllapsedTime: 47.0 seconds RetCode: 0 Status: OK PackageFile: CNORdt_1.50.0.tar.gz PackageFileSize: 311.5 KiB