Package: CNORdt Version: 1.52.0 Command: /Library/Frameworks/R.framework/Resources/bin/R CMD INSTALL CNORdt StartedAt: 2025-11-10 15:08:21 -0500 (Mon, 10 Nov 2025) EndedAt: 2025-11-10 15:08:25 -0500 (Mon, 10 Nov 2025) EllapsedTime: 4.1 seconds RetCode: 0 Status: OK