Package: CNORdt Version: 1.52.0 Command: /Library/Frameworks/R.framework/Resources/bin/R CMD build --keep-empty-dirs --no-resave-data CNORdt StartedAt: 2025-11-10 15:58:36 -0500 (Mon, 10 Nov 2025) EndedAt: 2025-11-10 15:58:59 -0500 (Mon, 10 Nov 2025) EllapsedTime: 23.3 seconds RetCode: 0 Status: OK PackageFile: CNORdt_1.52.0.tar.gz PackageFileSize: 319.2 KiB