Package: CNORdt Version: 1.52.0 Command: rm -rf CNORdt.buildbin-libdir && mkdir CNORdt.buildbin-libdir && /Users/biocbuild/BBS/utils/build-universal.sh CNORdt_1.52.0.tar.gz /Library/Frameworks/R.framework/Resources/bin/R CNORdt.buildbin-libdir StartedAt: 2025-11-10 23:15:24 -0500 (Mon, 10 Nov 2025) EndedAt: 2025-11-10 23:15:28 -0500 (Mon, 10 Nov 2025) EllapsedTime: 4.1 seconds RetCode: 0 Status: OK PackageFile: CNORdt_1.52.0.tgz PackageFileSize: 326.8 KiB