Package: CNEr Version: 1.46.0 Command: /home/biocbuild/bbs-3.22-bioc/R/bin/R CMD INSTALL CNEr StartedAt: 2025-11-03 15:53:04 -0500 (Mon, 03 Nov 2025) EndedAt: 2025-11-03 15:54:00 -0500 (Mon, 03 Nov 2025) EllapsedTime: 55.9 seconds RetCode: 0 Status: OK