Package: CNEr Version: 1.46.0 Command: /home/biocbuild/bbs-3.22-bioc/R/bin/R CMD build --keep-empty-dirs --no-resave-data --md5 CNEr StartedAt: 2025-11-03 16:56:37 -0500 (Mon, 03 Nov 2025) EndedAt: 2025-11-03 16:58:21 -0500 (Mon, 03 Nov 2025) EllapsedTime: 104.1 seconds RetCode: 0 Status: OK PackageFile: CNEr_1.46.0.tar.gz PackageFileSize: 9.587 MiB