Package: CNAnorm Version: 1.56.0 Command: /home/biocbuild/bbs-3.22-bioc/R/bin/R CMD INSTALL CNAnorm StartedAt: 2025-11-11 15:06:29 -0500 (Tue, 11 Nov 2025) EndedAt: 2025-11-11 15:06:37 -0500 (Tue, 11 Nov 2025) EllapsedTime: 7.5 seconds RetCode: 0 Status: OK