Package: CMA Version: 1.68.0 Command: /home/biocbuild/bbs-3.22-bioc/R/bin/R CMD INSTALL CMA StartedAt: 2025-11-13 15:12:41 -0500 (Thu, 13 Nov 2025) EndedAt: 2025-11-13 15:12:54 -0500 (Thu, 13 Nov 2025) EllapsedTime: 13.0 seconds RetCode: 0 Status: OK