Package: CMA Version: 1.68.0 Command: /home/biocbuild/bbs-3.22-bioc/R/bin/R CMD build --keep-empty-dirs --no-resave-data --md5 CMA StartedAt: 2025-11-13 16:55:49 -0500 (Thu, 13 Nov 2025) EndedAt: 2025-11-13 16:56:15 -0500 (Thu, 13 Nov 2025) EllapsedTime: 26.0 seconds RetCode: 0 Status: OK PackageFile: CMA_1.68.0.tar.gz PackageFileSize: 1.214 MiB