Package: CMA Version: 1.68.0 Command: /Library/Frameworks/R.framework/Resources/bin/R CMD INSTALL CMA StartedAt: 2025-11-03 15:18:53 -0500 (Mon, 03 Nov 2025) EndedAt: 2025-11-03 15:19:11 -0500 (Mon, 03 Nov 2025) EllapsedTime: 18.5 seconds RetCode: 0 Status: OK