Package: CMA Version: 1.68.0 Command: /Library/Frameworks/R.framework/Resources/bin/R CMD build --keep-empty-dirs --no-resave-data CMA StartedAt: 2025-11-03 16:31:09 -0500 (Mon, 03 Nov 2025) EndedAt: 2025-11-03 16:31:49 -0500 (Mon, 03 Nov 2025) EllapsedTime: 39.8 seconds RetCode: 0 Status: OK PackageFile: CMA_1.68.0.tar.gz PackageFileSize: 1.208 MiB