Package: CINdex Version: 1.38.0 Command: /home/biocbuild/bbs-3.22-bioc/R/bin/R CMD INSTALL CINdex StartedAt: 2025-11-11 15:21:04 -0500 (Tue, 11 Nov 2025) EndedAt: 2025-11-11 15:21:26 -0500 (Tue, 11 Nov 2025) EllapsedTime: 22.3 seconds RetCode: 0 Status: OK