Package: CINdex Version: 1.38.0 Command: /home/biocbuild/bbs-3.22-bioc/R/bin/R CMD check --install=check:CINdex.install-out.txt --library=/home/biocbuild/bbs-3.22-bioc/R/site-library --timings CINdex_1.38.0.tar.gz StartedAt: 2025-11-14 22:15:08 -0500 (Fri, 14 Nov 2025) EndedAt: 2025-11-14 22:20:17 -0500 (Fri, 14 Nov 2025) EllapsedTime: 309.4 seconds RetCode: 1 Status: ERROR CheckDir: CINdex.Rcheck Warnings: NA