Package: CINdex Version: 1.38.0 Command: /home/biocbuild/bbs-3.22-bioc/R/bin/R CMD build --keep-empty-dirs --no-resave-data --md5 CINdex StartedAt: 2025-11-11 16:55:09 -0500 (Tue, 11 Nov 2025) EndedAt: 2025-11-11 16:58:10 -0500 (Tue, 11 Nov 2025) EllapsedTime: 181.2 seconds RetCode: 0 Status: OK PackageFile: CINdex_1.38.0.tar.gz PackageFileSize: 12.51 MiB