Package: CINdex Version: 1.38.0 Command: /Library/Frameworks/R.framework/Resources/bin/R CMD INSTALL CINdex StartedAt: 2025-11-03 15:21:57 -0500 (Mon, 03 Nov 2025) EndedAt: 2025-11-03 15:22:25 -0500 (Mon, 03 Nov 2025) EllapsedTime: 28.4 seconds RetCode: 0 Status: OK