Package: CINdex Version: 1.38.0 Command: /Library/Frameworks/R.framework/Resources/bin/R CMD build --keep-empty-dirs --no-resave-data CINdex StartedAt: 2025-11-03 16:28:54 -0500 (Mon, 03 Nov 2025) EndedAt: 2025-11-03 16:33:15 -0500 (Mon, 03 Nov 2025) EllapsedTime: 260.2 seconds RetCode: 0 Status: OK PackageFile: CINdex_1.38.0.tar.gz PackageFileSize: 12.51 MiB