Package: CINdex Version: 1.38.0 Command: rm -rf CINdex.buildbin-libdir && mkdir CINdex.buildbin-libdir && /Users/biocbuild/BBS/utils/build-universal.sh CINdex_1.38.0.tar.gz /Library/Frameworks/R.framework/Resources/bin/R CINdex.buildbin-libdir StartedAt: 2025-11-04 01:32:51 -0500 (Tue, 04 Nov 2025) EndedAt: 2025-11-04 01:33:26 -0500 (Tue, 04 Nov 2025) EllapsedTime: 34.7 seconds RetCode: 0 Status: OK PackageFile: CINdex_1.38.0.tgz PackageFileSize: 16.6 MiB