Package: CINdex Version: 1.36.0 Command: /home/biocbuild/R/R/bin/R CMD INSTALL CINdex StartedAt: 2025-10-06 20:29:00 -0000 (Mon, 06 Oct 2025) EndedAt: 2025-10-06 20:29:33 -0000 (Mon, 06 Oct 2025) EllapsedTime: 32.9 seconds RetCode: 0 Status: OK