Package: CINdex Version: 1.36.0 Command: /home/biocbuild/R/R/bin/R CMD build --keep-empty-dirs --no-resave-data CINdex StartedAt: 2025-10-06 23:38:13 -0000 (Mon, 06 Oct 2025) EndedAt: 2025-10-06 23:43:56 -0000 (Mon, 06 Oct 2025) EllapsedTime: 343.4 seconds RetCode: 0 Status: OK PackageFile: CINdex_1.36.0.tar.gz PackageFileSize: 12.55 MiB