Package: CIMICE Version: 1.18.0 Command: /Library/Frameworks/R.framework/Resources/bin/R CMD build --keep-empty-dirs --no-resave-data CIMICE StartedAt: 2025-11-03 16:28:38 -0500 (Mon, 03 Nov 2025) EndedAt: 2025-11-03 16:29:16 -0500 (Mon, 03 Nov 2025) EllapsedTime: 37.8 seconds RetCode: 0 Status: OK PackageFile: CIMICE_1.18.0.tar.gz PackageFileSize: 1.558 MiB