Package: CIMICE Version: 1.18.0 Command: rm -rf CIMICE.buildbin-libdir && mkdir CIMICE.buildbin-libdir && /Users/biocbuild/BBS/utils/build-universal.sh CIMICE_1.18.0.tar.gz /Library/Frameworks/R.framework/Resources/bin/R CIMICE.buildbin-libdir StartedAt: 2025-11-04 01:32:49 -0500 (Tue, 04 Nov 2025) EndedAt: 2025-11-04 01:33:05 -0500 (Tue, 04 Nov 2025) EllapsedTime: 16.2 seconds RetCode: 0 Status: OK PackageFile: CIMICE_1.18.0.tgz PackageFileSize: 1.276 MiB