Package: CHRONOS Version: 1.38.0 Command: /home/biocbuild/R/R/bin/R CMD INSTALL CHRONOS StartedAt: 2025-11-13 21:34:10 -0000 (Thu, 13 Nov 2025) EndedAt: 2025-11-13 21:34:39 -0000 (Thu, 13 Nov 2025) EllapsedTime: 29.1 seconds RetCode: 0 Status: OK