Package: CHRONOS Version: 1.38.0 Command: /home/biocbuild/R/R/bin/R CMD build --keep-empty-dirs --no-resave-data CHRONOS StartedAt: 2025-11-14 00:32:31 -0000 (Fri, 14 Nov 2025) EndedAt: 2025-11-14 00:40:09 -0000 (Fri, 14 Nov 2025) EllapsedTime: 457.7 seconds RetCode: 1 Status: ERROR PackageFile: None PackageFileSize: NA