Package: CHRONOS Version: 1.38.0 Command: /home/biocbuild/bbs-3.22-bioc/R/bin/R CMD INSTALL CHRONOS StartedAt: 2025-11-11 15:30:26 -0500 (Tue, 11 Nov 2025) EndedAt: 2025-11-11 15:30:46 -0500 (Tue, 11 Nov 2025) EllapsedTime: 20.6 seconds RetCode: 0 Status: OK