Package: CHRONOS Version: 1.36.0 Command: /home/biocbuild/bbs-3.21-bioc/R/bin/R CMD INSTALL CHRONOS StartedAt: 2025-09-28 15:40:27 -0400 (Sun, 28 Sep 2025) EndedAt: 2025-09-28 15:40:47 -0400 (Sun, 28 Sep 2025) EllapsedTime: 19.6 seconds RetCode: 0 Status: OK