Package: CHRONOS Version: 1.36.0 Command: /home/biocbuild/bbs-3.21-bioc/R/bin/R CMD build --keep-empty-dirs --no-resave-data CHRONOS StartedAt: 2025-09-28 17:00:00 -0400 (Sun, 28 Sep 2025) EndedAt: 2025-09-28 17:00:31 -0400 (Sun, 28 Sep 2025) EllapsedTime: 31.0 seconds RetCode: 0 Status: OK PackageFile: CHRONOS_1.36.0.tar.gz PackageFileSize: 1.118 MiB