Package: CHRONOS Version: 1.36.0 Command: /Library/Frameworks/R.framework/Resources/bin/R CMD build --keep-empty-dirs --no-resave-data CHRONOS StartedAt: 2025-10-13 17:54:41 -0400 (Mon, 13 Oct 2025) EndedAt: 2025-10-13 17:55:52 -0400 (Mon, 13 Oct 2025) EllapsedTime: 71.1 seconds RetCode: 0 Status: OK PackageFile: CHRONOS_1.36.0.tar.gz PackageFileSize: 1.118 MiB