Package: CHRONOS Version: 1.36.0 Command: rm -rf CHRONOS.buildbin-libdir && mkdir CHRONOS.buildbin-libdir && /Users/biocbuild/BBS/utils/build-universal.sh CHRONOS_1.36.0.tar.gz /Library/Frameworks/R.framework/Resources/bin/R CHRONOS.buildbin-libdir StartedAt: 2025-10-14 13:02:58 -0400 (Tue, 14 Oct 2025) EndedAt: 2025-10-14 13:04:07 -0400 (Tue, 14 Oct 2025) EllapsedTime: 68.5 seconds RetCode: 0 Status: OK PackageFile: CHRONOS_1.36.0.tgz PackageFileSize: 1.301 MiB