Package: CHRONOS Version: 1.36.0 Command: /Library/Frameworks/R.framework/Resources/bin/R CMD build --keep-empty-dirs --no-resave-data CHRONOS StartedAt: 2025-09-29 21:20:59 -0400 (Mon, 29 Sep 2025) EndedAt: 2025-09-29 22:01:00 -0400 (Mon, 29 Sep 2025) EllapsedTime: 2400.8 seconds RetCode: None Status: TIMEOUT PackageFile: None PackageFileSize: NA