Package: CHETAH Version: 1.26.0 Command: /home/biocbuild/bbs-3.22-bioc/R/bin/R CMD INSTALL CHETAH StartedAt: 2025-11-11 15:59:47 -0500 (Tue, 11 Nov 2025) EndedAt: 2025-11-11 16:00:15 -0500 (Tue, 11 Nov 2025) EllapsedTime: 28.3 seconds RetCode: 0 Status: OK