Package: CHETAH Version: 1.26.0 Command: /home/biocbuild/bbs-3.22-bioc/R/bin/R CMD build --keep-empty-dirs --no-resave-data --md5 CHETAH StartedAt: 2025-11-11 16:51:47 -0500 (Tue, 11 Nov 2025) EndedAt: 2025-11-11 16:52:49 -0500 (Tue, 11 Nov 2025) EllapsedTime: 62.1 seconds RetCode: 0 Status: OK PackageFile: CHETAH_1.26.0.tar.gz PackageFileSize: 3.502 MiB