Package: CHETAH Version: 1.26.0 Command: /Library/Frameworks/R.framework/Resources/bin/R CMD INSTALL CHETAH StartedAt: 2025-11-10 15:30:47 -0500 (Mon, 10 Nov 2025) EndedAt: 2025-11-10 15:30:59 -0500 (Mon, 10 Nov 2025) EllapsedTime: 11.6 seconds RetCode: 0 Status: OK